BEGIN:VCALENDAR
VERSION:2.0
PRODID:-//Silver Reef Museum - ECPv6.15.20//NONSGML v1.0//EN
CALSCALE:GREGORIAN
METHOD:PUBLISH
X-ORIGINAL-URL:https://silverreef.org
X-WR-CALDESC:Events for Silver Reef Museum
REFRESH-INTERVAL;VALUE=DURATION:PT1H
X-Robots-Tag:noindex
X-PUBLISHED-TTL:PT1H
BEGIN:VTIMEZONE
TZID:UTC
BEGIN:STANDARD
TZOFFSETFROM:+0000
TZOFFSETTO:+0000
TZNAME:UTC
DTSTART:20230101T000000
END:STANDARD
END:VTIMEZONE
BEGIN:VEVENT
DTSTART;TZID=UTC:20240427T110000
DTEND;TZID=UTC:20240427T150000
DTSTAMP:20260421T191207
CREATED:20240220T072058Z
LAST-MODIFIED:20240220T072624Z
UID:6169-1714215600-1714230000@silverreef.org
SUMMARY:Smithsonian Exhibit | Crossroads
DESCRIPTION:See our Smithsonian Exhibit | Crossroads page for more information.
URL:https://silverreef.org/event/smithsonian-exhibit-crossroads-43/
LOCATION:Silver Reef Museum\, 1903 Wells Fargo Rd\, Leeds\, UT\, 84746\, United States
CATEGORIES:Crossroads
END:VEVENT
END:VCALENDAR