BEGIN:VCALENDAR
VERSION:2.0
PRODID:-//Silver Reef Museum - ECPv6.15.20//NONSGML v1.0//EN
CALSCALE:GREGORIAN
METHOD:PUBLISH
X-WR-CALNAME:Silver Reef Museum
X-ORIGINAL-URL:https://silverreef.org
X-WR-CALDESC:Events for Silver Reef Museum
REFRESH-INTERVAL;VALUE=DURATION:PT1H
X-Robots-Tag:noindex
X-PUBLISHED-TTL:PT1H
BEGIN:VTIMEZONE
TZID:UTC
BEGIN:STANDARD
TZOFFSETFROM:+0000
TZOFFSETTO:+0000
TZNAME:UTC
DTSTART:20230101T000000
END:STANDARD
END:VTIMEZONE
BEGIN:VEVENT
DTSTART;TZID=UTC:20240401T110000
DTEND;TZID=UTC:20240401T150000
DTSTAMP:20260421T231037
CREATED:20240220T071901Z
LAST-MODIFIED:20240220T071901Z
UID:6146-1711969200-1711983600@silverreef.org
SUMMARY:Smithsonian Exhibit | Crossroads
DESCRIPTION:See our Smithsonian Exhibit | Crossroads page for more information.
URL:https://silverreef.org/event/smithsonian-exhibit-crossroads-20/
LOCATION:Silver Reef Museum\, 1903 Wells Fargo Rd\, Leeds\, UT\, 84746\, United States
CATEGORIES:Crossroads
END:VEVENT
BEGIN:VEVENT
DTSTART;TZID=UTC:20240402T110000
DTEND;TZID=UTC:20240402T150000
DTSTAMP:20260421T231037
CREATED:20240220T071915Z
LAST-MODIFIED:20240220T072537Z
UID:6147-1712055600-1712070000@silverreef.org
SUMMARY:Smithsonian Exhibit | Crossroads
DESCRIPTION:See our Smithsonian Exhibit | Crossroads page for more information.
URL:https://silverreef.org/event/smithsonian-exhibit-crossroads-21/
LOCATION:Silver Reef Museum\, 1903 Wells Fargo Rd\, Leeds\, UT\, 84746\, United States
CATEGORIES:Crossroads
END:VEVENT
BEGIN:VEVENT
DTSTART;TZID=UTC:20240403T110000
DTEND;TZID=UTC:20240403T150000
DTSTAMP:20260421T231037
CREATED:20240220T071915Z
LAST-MODIFIED:20240220T072537Z
UID:6148-1712142000-1712156400@silverreef.org
SUMMARY:Smithsonian Exhibit | Crossroads
DESCRIPTION:See our Smithsonian Exhibit | Crossroads page for more information.
URL:https://silverreef.org/event/smithsonian-exhibit-crossroads-22/
LOCATION:Silver Reef Museum\, 1903 Wells Fargo Rd\, Leeds\, UT\, 84746\, United States
CATEGORIES:Crossroads
END:VEVENT
BEGIN:VEVENT
DTSTART;TZID=UTC:20240404T110000
DTEND;TZID=UTC:20240404T150000
DTSTAMP:20260421T231037
CREATED:20240220T071916Z
LAST-MODIFIED:20240220T072537Z
UID:6149-1712228400-1712242800@silverreef.org
SUMMARY:Smithsonian Exhibit | Crossroads
DESCRIPTION:See our Smithsonian Exhibit | Crossroads page for more information.
URL:https://silverreef.org/event/smithsonian-exhibit-crossroads-23/
LOCATION:Silver Reef Museum\, 1903 Wells Fargo Rd\, Leeds\, UT\, 84746\, United States
CATEGORIES:Crossroads
END:VEVENT
BEGIN:VEVENT
DTSTART;TZID=UTC:20240404T190000
DTEND;TZID=UTC:20240404T200000
DTSTAMP:20260421T231037
CREATED:20240305T163418Z
LAST-MODIFIED:20240305T163418Z
UID:6217-1712257200-1712260800@silverreef.org
SUMMARY:Washington County Decision Makers: Where are the Women?
DESCRIPTION:FREE!  Please register to attend by clicking this link: https://form.jotform.com/240537205599159 \nPresented by Arts to Zion and Utah Tech University (formerly Dixie State) and Washington County Historical Society and Silver Reef Museum and Utah Humanities  at Boeing Auditorium\, Udvar-Hazy Building\, Saint George UT \nCrossroads oﬀers a chance to look at the role of Women over the past century – to highlight the changes women have experienced – and think about what’s next. \nWashington County is far more urban than rural at this point. This change from rural to urban presents opportunities and challenges. When does unbridled growth begin to confuse our crossroads with promises unable to be kept – creating an intersection that promises prosperity but at a speed that may erase livability. We are still determining if the growth we see will erase livability. Women’s roles in this evolution from rural to urban will be our focus. \nPanel Discussion: Kerry Kastler\, Pam Gardiol\, and Rachel Ramsay.\nModerator: Lisa Rutherford is Public Policy Chair for St. George AAUW organization\, serves on the board of UUFSU\, and is a local writer.\nKerry Kastler is Intermountain Health Southwest Region’s Retired Chief Development Oﬃcer\, past chairman of the St. George Area Chamber of Commerce\, and St. George Planning Commission. Has served on several non-proﬁt boards and has contributed numerous op-eds to area newspapers.\nPam Gardiol is president of Gardiol & Associates\, serving public\, private\, and non-proﬁt organizations in Utah and the West Coast for 30 years. For two decades\, served on the faculty teaching organizational management at three universities. Served twelve years on the Ogden City Planning Commission\, during which was the Chair. Currently serves on the Ivins City Planning Commission.\nRachel Ramsay\, MFA\, Associate Professor of Web & Digital Design · Utah Tech University\, AAUW STEM/E-Smart Chair. Educator\, designer\, and serial entrepreneur – Apple Distinguished Educator Class of 2019.
URL:https://silverreef.org/event/washington-county-decision-makers-where-are-the-women/
LOCATION:Boeing Auditorium\, Udvar-Hazy Building\, Utah Tech University\, 225 S 700 E\, St. George\, UT\, 84770
CATEGORIES:Crossroads
ATTACH;FMTTYPE=image/jpeg:https://silverreef.org/wp-content/uploads/2024/03/event-featured-washington-county-decision-makers-where-are-the-women-1708868878-455x750-1.jpeg
ORGANIZER;CN="Arts to Zion":MAILTO:ArtstoZion@gmail.com
END:VEVENT
BEGIN:VEVENT
DTSTART;TZID=UTC:20240405T110000
DTEND;TZID=UTC:20240405T150000
DTSTAMP:20260421T231037
CREATED:20240220T071916Z
LAST-MODIFIED:20240220T072537Z
UID:6150-1712314800-1712329200@silverreef.org
SUMMARY:Smithsonian Exhibit | Crossroads
DESCRIPTION:See our Smithsonian Exhibit | Crossroads page for more information.
URL:https://silverreef.org/event/smithsonian-exhibit-crossroads-24/
LOCATION:Silver Reef Museum\, 1903 Wells Fargo Rd\, Leeds\, UT\, 84746\, United States
CATEGORIES:Crossroads
END:VEVENT
BEGIN:VEVENT
DTSTART;TZID=UTC:20240406T110000
DTEND;TZID=UTC:20240406T150000
DTSTAMP:20260421T231037
CREATED:20240220T071916Z
LAST-MODIFIED:20240220T072537Z
UID:6151-1712401200-1712415600@silverreef.org
SUMMARY:Smithsonian Exhibit | Crossroads
DESCRIPTION:See our Smithsonian Exhibit | Crossroads page for more information.
URL:https://silverreef.org/event/smithsonian-exhibit-crossroads-25/
LOCATION:Silver Reef Museum\, 1903 Wells Fargo Rd\, Leeds\, UT\, 84746\, United States
CATEGORIES:Crossroads
END:VEVENT
BEGIN:VEVENT
DTSTART;TZID=UTC:20240408T110000
DTEND;TZID=UTC:20240408T150000
DTSTAMP:20260421T231037
CREATED:20240220T071950Z
LAST-MODIFIED:20240220T072539Z
UID:6152-1712574000-1712588400@silverreef.org
SUMMARY:Smithsonian Exhibit | Crossroads
DESCRIPTION:See our Smithsonian Exhibit | Crossroads page for more information.
URL:https://silverreef.org/event/smithsonian-exhibit-crossroads-26/
LOCATION:Silver Reef Museum\, 1903 Wells Fargo Rd\, Leeds\, UT\, 84746\, United States
CATEGORIES:Crossroads
END:VEVENT
BEGIN:VEVENT
DTSTART;TZID=UTC:20240409T110000
DTEND;TZID=UTC:20240409T150000
DTSTAMP:20260421T231037
CREATED:20240220T071951Z
LAST-MODIFIED:20240220T072539Z
UID:6153-1712660400-1712674800@silverreef.org
SUMMARY:Smithsonian Exhibit | Crossroads
DESCRIPTION:See our Smithsonian Exhibit | Crossroads page for more information.
URL:https://silverreef.org/event/smithsonian-exhibit-crossroads-27/
LOCATION:Silver Reef Museum\, 1903 Wells Fargo Rd\, Leeds\, UT\, 84746\, United States
CATEGORIES:Crossroads
END:VEVENT
BEGIN:VEVENT
DTSTART;TZID=UTC:20240410T110000
DTEND;TZID=UTC:20240410T150000
DTSTAMP:20260421T231037
CREATED:20240220T071951Z
LAST-MODIFIED:20240220T072539Z
UID:6154-1712746800-1712761200@silverreef.org
SUMMARY:Smithsonian Exhibit | Crossroads
DESCRIPTION:See our Smithsonian Exhibit | Crossroads page for more information.
URL:https://silverreef.org/event/smithsonian-exhibit-crossroads-28/
LOCATION:Silver Reef Museum\, 1903 Wells Fargo Rd\, Leeds\, UT\, 84746\, United States
CATEGORIES:Crossroads
END:VEVENT
BEGIN:VEVENT
DTSTART;TZID=UTC:20240411T110000
DTEND;TZID=UTC:20240411T150000
DTSTAMP:20260421T231037
CREATED:20240220T071951Z
LAST-MODIFIED:20240220T072539Z
UID:6155-1712833200-1712847600@silverreef.org
SUMMARY:Smithsonian Exhibit | Crossroads
DESCRIPTION:See our Smithsonian Exhibit | Crossroads page for more information.
URL:https://silverreef.org/event/smithsonian-exhibit-crossroads-29/
LOCATION:Silver Reef Museum\, 1903 Wells Fargo Rd\, Leeds\, UT\, 84746\, United States
CATEGORIES:Crossroads
END:VEVENT
BEGIN:VEVENT
DTSTART;TZID=UTC:20240412T110000
DTEND;TZID=UTC:20240412T150000
DTSTAMP:20260421T231037
CREATED:20240220T071951Z
LAST-MODIFIED:20240220T072539Z
UID:6156-1712919600-1712934000@silverreef.org
SUMMARY:Smithsonian Exhibit | Crossroads
DESCRIPTION:See our Smithsonian Exhibit | Crossroads page for more information.
URL:https://silverreef.org/event/smithsonian-exhibit-crossroads-30/
LOCATION:Silver Reef Museum\, 1903 Wells Fargo Rd\, Leeds\, UT\, 84746\, United States
CATEGORIES:Crossroads
END:VEVENT
BEGIN:VEVENT
DTSTART;TZID=UTC:20240413T110000
DTEND;TZID=UTC:20240413T150000
DTSTAMP:20260421T231037
CREATED:20240220T072012Z
LAST-MODIFIED:20240220T072554Z
UID:6157-1713006000-1713020400@silverreef.org
SUMMARY:Smithsonian Exhibit | Crossroads
DESCRIPTION:See our Smithsonian Exhibit | Crossroads page for more information.
URL:https://silverreef.org/event/smithsonian-exhibit-crossroads-31/
LOCATION:Silver Reef Museum\, 1903 Wells Fargo Rd\, Leeds\, UT\, 84746\, United States
CATEGORIES:Crossroads
END:VEVENT
BEGIN:VEVENT
DTSTART;TZID=UTC:20240415T110000
DTEND;TZID=UTC:20240415T150000
DTSTAMP:20260421T231037
CREATED:20240220T072012Z
LAST-MODIFIED:20240220T072554Z
UID:6158-1713178800-1713193200@silverreef.org
SUMMARY:Smithsonian Exhibit | Crossroads
DESCRIPTION:See our Smithsonian Exhibit | Crossroads page for more information.
URL:https://silverreef.org/event/smithsonian-exhibit-crossroads-32/
LOCATION:Silver Reef Museum\, 1903 Wells Fargo Rd\, Leeds\, UT\, 84746\, United States
CATEGORIES:Crossroads
END:VEVENT
BEGIN:VEVENT
DTSTART;TZID=UTC:20240416T110000
DTEND;TZID=UTC:20240416T150000
DTSTAMP:20260421T231037
CREATED:20240220T072012Z
LAST-MODIFIED:20240220T072554Z
UID:6159-1713265200-1713279600@silverreef.org
SUMMARY:Smithsonian Exhibit | Crossroads
DESCRIPTION:See our Smithsonian Exhibit | Crossroads page for more information.
URL:https://silverreef.org/event/smithsonian-exhibit-crossroads-33/
LOCATION:Silver Reef Museum\, 1903 Wells Fargo Rd\, Leeds\, UT\, 84746\, United States
CATEGORIES:Crossroads
END:VEVENT
BEGIN:VEVENT
DTSTART;TZID=UTC:20240417T110000
DTEND;TZID=UTC:20240417T150000
DTSTAMP:20260421T231037
CREATED:20240220T072013Z
LAST-MODIFIED:20240220T072555Z
UID:6160-1713351600-1713366000@silverreef.org
SUMMARY:Smithsonian Exhibit | Crossroads
DESCRIPTION:See our Smithsonian Exhibit | Crossroads page for more information.
URL:https://silverreef.org/event/smithsonian-exhibit-crossroads-34/
LOCATION:Silver Reef Museum\, 1903 Wells Fargo Rd\, Leeds\, UT\, 84746\, United States
CATEGORIES:Crossroads
END:VEVENT
BEGIN:VEVENT
DTSTART;TZID=UTC:20240418T110000
DTEND;TZID=UTC:20240418T150000
DTSTAMP:20260421T231037
CREATED:20240220T072013Z
LAST-MODIFIED:20240220T072555Z
UID:6161-1713438000-1713452400@silverreef.org
SUMMARY:Smithsonian Exhibit | Crossroads
DESCRIPTION:See our Smithsonian Exhibit | Crossroads page for more information.
URL:https://silverreef.org/event/smithsonian-exhibit-crossroads-35/
LOCATION:Silver Reef Museum\, 1903 Wells Fargo Rd\, Leeds\, UT\, 84746\, United States
CATEGORIES:Crossroads
END:VEVENT
BEGIN:VEVENT
DTSTART;TZID=UTC:20240419T110000
DTEND;TZID=UTC:20240419T150000
DTSTAMP:20260421T231037
CREATED:20240220T072027Z
LAST-MODIFIED:20240220T072609Z
UID:6162-1713524400-1713538800@silverreef.org
SUMMARY:Smithsonian Exhibit | Crossroads
DESCRIPTION:See our Smithsonian Exhibit | Crossroads page for more information.
URL:https://silverreef.org/event/smithsonian-exhibit-crossroads-36/
LOCATION:Silver Reef Museum\, 1903 Wells Fargo Rd\, Leeds\, UT\, 84746\, United States
CATEGORIES:Crossroads
END:VEVENT
BEGIN:VEVENT
DTSTART;TZID=UTC:20240420T110000
DTEND;TZID=UTC:20240420T150000
DTSTAMP:20260421T231037
CREATED:20240220T072027Z
LAST-MODIFIED:20240220T072609Z
UID:6163-1713610800-1713625200@silverreef.org
SUMMARY:Smithsonian Exhibit | Crossroads
DESCRIPTION:See our Smithsonian Exhibit | Crossroads page for more information.
URL:https://silverreef.org/event/smithsonian-exhibit-crossroads-37/
LOCATION:Silver Reef Museum\, 1903 Wells Fargo Rd\, Leeds\, UT\, 84746\, United States
CATEGORIES:Crossroads
END:VEVENT
BEGIN:VEVENT
DTSTART;TZID=UTC:20240422T110000
DTEND;TZID=UTC:20240422T150000
DTSTAMP:20260421T231037
CREATED:20240220T072027Z
LAST-MODIFIED:20240220T072609Z
UID:6164-1713783600-1713798000@silverreef.org
SUMMARY:Smithsonian Exhibit | Crossroads
DESCRIPTION:See our Smithsonian Exhibit | Crossroads page for more information.
URL:https://silverreef.org/event/smithsonian-exhibit-crossroads-38/
LOCATION:Silver Reef Museum\, 1903 Wells Fargo Rd\, Leeds\, UT\, 84746\, United States
CATEGORIES:Crossroads
END:VEVENT
BEGIN:VEVENT
DTSTART;TZID=UTC:20240423T110000
DTEND;TZID=UTC:20240423T150000
DTSTAMP:20260421T231037
CREATED:20240220T072028Z
LAST-MODIFIED:20240220T072610Z
UID:6165-1713870000-1713884400@silverreef.org
SUMMARY:Smithsonian Exhibit | Crossroads
DESCRIPTION:See our Smithsonian Exhibit | Crossroads page for more information.
URL:https://silverreef.org/event/smithsonian-exhibit-crossroads-39/
LOCATION:Silver Reef Museum\, 1903 Wells Fargo Rd\, Leeds\, UT\, 84746\, United States
CATEGORIES:Crossroads
END:VEVENT
BEGIN:VEVENT
DTSTART;TZID=UTC:20240424T110000
DTEND;TZID=UTC:20240424T150000
DTSTAMP:20260421T231037
CREATED:20240220T072028Z
LAST-MODIFIED:20240220T072610Z
UID:6166-1713956400-1713970800@silverreef.org
SUMMARY:Smithsonian Exhibit | Crossroads
DESCRIPTION:See our Smithsonian Exhibit | Crossroads page for more information.
URL:https://silverreef.org/event/smithsonian-exhibit-crossroads-40/
LOCATION:Silver Reef Museum\, 1903 Wells Fargo Rd\, Leeds\, UT\, 84746\, United States
CATEGORIES:Crossroads
END:VEVENT
BEGIN:VEVENT
DTSTART;TZID=UTC:20240425T110000
DTEND;TZID=UTC:20240425T150000
DTSTAMP:20260421T231037
CREATED:20240220T072058Z
LAST-MODIFIED:20240220T072624Z
UID:6167-1714042800-1714057200@silverreef.org
SUMMARY:Smithsonian Exhibit | Crossroads
DESCRIPTION:See our Smithsonian Exhibit | Crossroads page for more information.
URL:https://silverreef.org/event/smithsonian-exhibit-crossroads-41/
LOCATION:Silver Reef Museum\, 1903 Wells Fargo Rd\, Leeds\, UT\, 84746\, United States
CATEGORIES:Crossroads
END:VEVENT
BEGIN:VEVENT
DTSTART;TZID=UTC:20240426T110000
DTEND;TZID=UTC:20240426T150000
DTSTAMP:20260421T231037
CREATED:20240220T072058Z
LAST-MODIFIED:20240220T072624Z
UID:6168-1714129200-1714143600@silverreef.org
SUMMARY:Smithsonian Exhibit | Crossroads
DESCRIPTION:See our Smithsonian Exhibit | Crossroads page for more information.
URL:https://silverreef.org/event/smithsonian-exhibit-crossroads-42/
LOCATION:Silver Reef Museum\, 1903 Wells Fargo Rd\, Leeds\, UT\, 84746\, United States
CATEGORIES:Crossroads
END:VEVENT
BEGIN:VEVENT
DTSTART;TZID=UTC:20240427T110000
DTEND;TZID=UTC:20240427T150000
DTSTAMP:20260421T231037
CREATED:20240220T072058Z
LAST-MODIFIED:20240220T072624Z
UID:6169-1714215600-1714230000@silverreef.org
SUMMARY:Smithsonian Exhibit | Crossroads
DESCRIPTION:See our Smithsonian Exhibit | Crossroads page for more information.
URL:https://silverreef.org/event/smithsonian-exhibit-crossroads-43/
LOCATION:Silver Reef Museum\, 1903 Wells Fargo Rd\, Leeds\, UT\, 84746\, United States
CATEGORIES:Crossroads
END:VEVENT
END:VCALENDAR