BEGIN:VCALENDAR
VERSION:2.0
PRODID:-//Silver Reef Museum - ECPv6.15.20//NONSGML v1.0//EN
CALSCALE:GREGORIAN
METHOD:PUBLISH
X-WR-CALNAME:Silver Reef Museum
X-ORIGINAL-URL:https://silverreef.org
X-WR-CALDESC:Events for Silver Reef Museum
REFRESH-INTERVAL;VALUE=DURATION:PT1H
X-Robots-Tag:noindex
X-PUBLISHED-TTL:PT1H
BEGIN:VTIMEZONE
TZID:UTC
BEGIN:STANDARD
TZOFFSETFROM:+0000
TZOFFSETTO:+0000
TZNAME:UTC
DTSTART:20230101T000000
END:STANDARD
END:VTIMEZONE
BEGIN:VEVENT
DTSTART;TZID=UTC:20240328T110000
DTEND;TZID=UTC:20240328T150000
DTSTAMP:20260421T113312
CREATED:20240220T071900Z
LAST-MODIFIED:20240220T071900Z
UID:6143-1711623600-1711638000@silverreef.org
SUMMARY:Smithsonian Exhibit | Crossroads
DESCRIPTION:See our Smithsonian Exhibit | Crossroads page for more information.
URL:https://silverreef.org/event/smithsonian-exhibit-crossroads-17/
LOCATION:Silver Reef Museum\, 1903 Wells Fargo Rd\, Leeds\, UT\, 84746\, United States
CATEGORIES:Crossroads
END:VEVENT
BEGIN:VEVENT
DTSTART;TZID=UTC:20240328T190000
DTEND;TZID=UTC:20240328T200000
DTSTAMP:20260421T113312
CREATED:20240305T161150Z
LAST-MODIFIED:20240305T162041Z
UID:6209-1711652400-1711656000@silverreef.org
SUMMARY:Community progress through Time
DESCRIPTION:Free!  PLEASE REGISTER to attend this event at https://form.jotform.com/240534660597159 \nPresented by Arts to Zion and Silver Reef Museum and Utah Humanities and Santa Clara Swiss Days and Washington County Historical Society  at Santa Clara Utah Town Hall\, Santa Clara UT \nThe panel will include Dan Frei\, Dennis Frei\, Pam Graf\, Roy Hafen\, and Jim Ence who were all born and raised in Santa Clara and are still residing in the county today. We will be engaging the community in this discussion. \nThe panel will include Dan Frei\, Dennis Frei\, Pam Graf\, Roy Hafen\, and Jim Ence who were all born and raised in Santa Clara and are still residing in the county today. Panel members will be asked to respond to questions about the changes that have happened in Santa Clara since their childhoods.\nWe will be engaging the community in this discussion.\nSusannah Nilsson will be moderator. \nABOUT THE MODERATOR: Susannah Nilsson \nSusannah Nilsson has an interest in history. She serves\, as the educational outreach specialist on the Santa Clara Museum Board of Directors\, and in counsel with the Washington Historical Society. A member of Desert Archaeological Society\, DUP Washington County board. Volunteer\, Activist\, Traveler\, wife\, mother\, grandmother.
URL:https://silverreef.org/event/community-progress-through-time/
LOCATION:Santa Clara Town Hall\, 603 Santa Clara Dr.\, Santa Clara\, UT\, 84765
CATEGORIES:Crossroads
ATTACH;FMTTYPE=image/jpeg:https://silverreef.org/wp-content/uploads/2024/03/20240328-Community-Progress.jpg
END:VEVENT
END:VCALENDAR