BEGIN:VCALENDAR
VERSION:2.0
PRODID:-//Silver Reef Museum - ECPv6.15.20//NONSGML v1.0//EN
CALSCALE:GREGORIAN
METHOD:PUBLISH
X-WR-CALNAME:Silver Reef Museum
X-ORIGINAL-URL:https://silverreef.org
X-WR-CALDESC:Events for Silver Reef Museum
REFRESH-INTERVAL;VALUE=DURATION:PT1H
X-Robots-Tag:noindex
X-PUBLISHED-TTL:PT1H
BEGIN:VTIMEZONE
TZID:UTC
BEGIN:STANDARD
TZOFFSETFROM:+0000
TZOFFSETTO:+0000
TZNAME:UTC
DTSTART:20230101T000000
END:STANDARD
END:VTIMEZONE
BEGIN:VEVENT
DTSTART;TZID=UTC:20240229T190000
DTEND;TZID=UTC:20240229T200000
DTSTAMP:20260421T113140
CREATED:20240220T053601Z
LAST-MODIFIED:20240220T053601Z
UID:6099-1709233200-1709236800@silverreef.org
SUMMARY:From Isolation to Inundation: How Tourist Travel Changed Southern Utah
DESCRIPTION:Lisa will focus on three changes to rural Utah during the 20th century which required dramatic adaptation: \n1) the building of the Arrowhead Highway\, later I-15 from LA to SLC\,\n2) the growth of tourism\, especially regarding Utah’s 5 national parks\, and\n3) the reinvention of the rural economies\, away from agriculture and toward tourism and services. \nABOUT THE PRESENTER: Lisa-Michele Church\nLisa-Michele Church’s professional background includes more than 30 years of public and private service as an attorney\, historian\, and\ncommunity activist. She served in the cabinets of two Utah governors where she advocated for issues of social justice from helping individual families negotiate the challenges of mental illness to advocating at a national level for more effective substance abuse prevention strategies during Utah’s methamphetamine epidemic.\nIn her law practice she served as Vice President/General Counsel at a Fortune 500 company where she was instrumental in negotiating the venue agreements for the 2002 Salt Lake City Winter Olympic Games. As Executive Director of Utah’s Department of Human Services\, Ms. Church addressed child protection\, juvenile justice\, mental illness\, drug addiction\, services for people with disabilities\, elder abuse\, and child support collection. Subsequently\, as administrator for Utah’s juvenile court system\, she was able to continue her advocacy for youth and families across courts statewide. She worked with judges and court staff to prioritize the needs of underserved youth such as girls in the juvenile justice system and teenagers aging out of foster care without family attachments.\nLisa-Michele is a published historian by avocation and passion. Having grown up in the California and Utah\, she is interested in vernacular architecture\, especially early 20th century mom-and-pop businesses such as motels\, cafes\, and grocery stores. She speaks often on topics of tourism\, iconic neon signs\, vintage apartment buildings\, and road-building throughout Utah.
URL:https://silverreef.org/event/from-isolation-to-inundation-how-tourist-travel-changed-southern-utah/
LOCATION:Boeing Auditorium\, Udvar-Hazy Building\, Utah Tech University\, 225 S 700 E\, St. George\, UT\, 84770
CATEGORIES:Crossroads
ATTACH;FMTTYPE=image/jpeg:https://silverreef.org/wp-content/uploads/2024/02/20240229-From-Isolation.jpg
END:VEVENT
END:VCALENDAR